BEGIN:VCALENDAR
VERSION:2.0
PRODID:-//Millwood Golf - ECPv6.10.1.1//NONSGML v1.0//EN
CALSCALE:GREGORIAN
METHOD:PUBLISH
X-ORIGINAL-URL:https://millwoodgolf.com
X-WR-CALDESC:Events for Millwood Golf
REFRESH-INTERVAL;VALUE=DURATION:PT1H
X-Robots-Tag:noindex
X-PUBLISHED-TTL:PT1H
BEGIN:VTIMEZONE
TZID:America/Chicago
BEGIN:DAYLIGHT
TZOFFSETFROM:-0600
TZOFFSETTO:-0500
TZNAME:CDT
DTSTART:20270314T080000
END:DAYLIGHT
BEGIN:STANDARD
TZOFFSETFROM:-0500
TZOFFSETTO:-0600
TZNAME:CST
DTSTART:20271107T070000
END:STANDARD
END:VTIMEZONE
BEGIN:VEVENT
DTSTART;VALUE=DATE:20270101
DTEND;VALUE=DATE:20270102
DTSTAMP:20260424T052947
CREATED:20260117T194613Z
LAST-MODIFIED:20260117T200716Z
UID:10000185-1798761600-1798847999@millwoodgolf.com
SUMMARY:Fish Friday
DESCRIPTION:
URL:https://millwoodgolf.com/cal/fish-friday/2027-01-01/
LOCATION:Millwood Golf and Racquet Club\, 3700 E Millwood Dr\,\, Ozark\, 65721\, United States
ORGANIZER;CN="Hannah Schumacher":MAILTO:hschumacher@millwoodgolf.com
END:VEVENT
BEGIN:VEVENT
DTSTART;TZID=America/Chicago:20270105T170000
DTEND;TZID=America/Chicago:20270105T200000
DTSTAMP:20260424T052947
CREATED:20260117T184516Z
LAST-MODIFIED:20260117T184516Z
UID:10000123-1799168400-1799179200@millwoodgolf.com
SUMMARY:Comfort Food Feature Tuesday
DESCRIPTION:
URL:https://millwoodgolf.com/cal/comfort-food-feature-tuesday/2027-01-05/
LOCATION:Millwood Golf and Racquet Club\, 3700 E Millwood Dr\,\, Ozark\, 65721\, United States
ORGANIZER;CN="Hannah Schumacher":MAILTO:hschumacher@millwoodgolf.com
END:VEVENT
BEGIN:VEVENT
DTSTART;VALUE=DATE:20270108
DTEND;VALUE=DATE:20270109
DTSTAMP:20260424T052947
CREATED:20260117T194613Z
LAST-MODIFIED:20260117T200716Z
UID:10000186-1799366400-1799452799@millwoodgolf.com
SUMMARY:Fish Friday
DESCRIPTION:
URL:https://millwoodgolf.com/cal/fish-friday/2027-01-08/
LOCATION:Millwood Golf and Racquet Club\, 3700 E Millwood Dr\,\, Ozark\, 65721\, United States
ORGANIZER;CN="Hannah Schumacher":MAILTO:hschumacher@millwoodgolf.com
END:VEVENT
BEGIN:VEVENT
DTSTART;TZID=America/Chicago:20270112T170000
DTEND;TZID=America/Chicago:20270112T200000
DTSTAMP:20260424T052947
CREATED:20260117T184516Z
LAST-MODIFIED:20260117T184516Z
UID:10000124-1799773200-1799784000@millwoodgolf.com
SUMMARY:Comfort Food Feature Tuesday
DESCRIPTION:
URL:https://millwoodgolf.com/cal/comfort-food-feature-tuesday/2027-01-12/
LOCATION:Millwood Golf and Racquet Club\, 3700 E Millwood Dr\,\, Ozark\, 65721\, United States
ORGANIZER;CN="Hannah Schumacher":MAILTO:hschumacher@millwoodgolf.com
END:VEVENT
BEGIN:VEVENT
DTSTART;VALUE=DATE:20270115
DTEND;VALUE=DATE:20270116
DTSTAMP:20260424T052947
CREATED:20260117T194613Z
LAST-MODIFIED:20260117T200716Z
UID:10000187-1799971200-1800057599@millwoodgolf.com
SUMMARY:Fish Friday
DESCRIPTION:
URL:https://millwoodgolf.com/cal/fish-friday/2027-01-15/
LOCATION:Millwood Golf and Racquet Club\, 3700 E Millwood Dr\,\, Ozark\, 65721\, United States
ORGANIZER;CN="Hannah Schumacher":MAILTO:hschumacher@millwoodgolf.com
END:VEVENT
BEGIN:VEVENT
DTSTART;TZID=America/Chicago:20270119T170000
DTEND;TZID=America/Chicago:20270119T200000
DTSTAMP:20260424T052947
CREATED:20260117T184516Z
LAST-MODIFIED:20260117T184516Z
UID:10000125-1800378000-1800388800@millwoodgolf.com
SUMMARY:Comfort Food Feature Tuesday
DESCRIPTION:
URL:https://millwoodgolf.com/cal/comfort-food-feature-tuesday/2027-01-19/
LOCATION:Millwood Golf and Racquet Club\, 3700 E Millwood Dr\,\, Ozark\, 65721\, United States
ORGANIZER;CN="Hannah Schumacher":MAILTO:hschumacher@millwoodgolf.com
END:VEVENT
BEGIN:VEVENT
DTSTART;VALUE=DATE:20270122
DTEND;VALUE=DATE:20270123
DTSTAMP:20260424T052947
CREATED:20260117T194613Z
LAST-MODIFIED:20260117T200716Z
UID:10000188-1800576000-1800662399@millwoodgolf.com
SUMMARY:Fish Friday
DESCRIPTION:
URL:https://millwoodgolf.com/cal/fish-friday/2027-01-22/
LOCATION:Millwood Golf and Racquet Club\, 3700 E Millwood Dr\,\, Ozark\, 65721\, United States
ORGANIZER;CN="Hannah Schumacher":MAILTO:hschumacher@millwoodgolf.com
END:VEVENT
BEGIN:VEVENT
DTSTART;TZID=America/Chicago:20270126T170000
DTEND;TZID=America/Chicago:20270126T200000
DTSTAMP:20260424T052947
CREATED:20260117T184516Z
LAST-MODIFIED:20260117T184516Z
UID:10000126-1800982800-1800993600@millwoodgolf.com
SUMMARY:Comfort Food Feature Tuesday
DESCRIPTION:
URL:https://millwoodgolf.com/cal/comfort-food-feature-tuesday/2027-01-26/
LOCATION:Millwood Golf and Racquet Club\, 3700 E Millwood Dr\,\, Ozark\, 65721\, United States
ORGANIZER;CN="Hannah Schumacher":MAILTO:hschumacher@millwoodgolf.com
END:VEVENT
BEGIN:VEVENT
DTSTART;VALUE=DATE:20270129
DTEND;VALUE=DATE:20270130
DTSTAMP:20260424T052947
CREATED:20260117T194613Z
LAST-MODIFIED:20260117T200716Z
UID:10000189-1801180800-1801267199@millwoodgolf.com
SUMMARY:Fish Friday
DESCRIPTION:
URL:https://millwoodgolf.com/cal/fish-friday/2027-01-29/
LOCATION:Millwood Golf and Racquet Club\, 3700 E Millwood Dr\,\, Ozark\, 65721\, United States
ORGANIZER;CN="Hannah Schumacher":MAILTO:hschumacher@millwoodgolf.com
END:VEVENT
END:VCALENDAR