BEGIN:VCALENDAR
VERSION:2.0
PRODID:-//Millwood Golf - ECPv6.10.1.1//NONSGML v1.0//EN
CALSCALE:GREGORIAN
METHOD:PUBLISH
X-ORIGINAL-URL:https://millwoodgolf.com
X-WR-CALDESC:Events for Millwood Golf
REFRESH-INTERVAL;VALUE=DURATION:PT1H
X-Robots-Tag:noindex
X-PUBLISHED-TTL:PT1H
BEGIN:VTIMEZONE
TZID:America/Chicago
BEGIN:DAYLIGHT
TZOFFSETFROM:-0600
TZOFFSETTO:-0500
TZNAME:CDT
DTSTART:20270314T080000
END:DAYLIGHT
BEGIN:STANDARD
TZOFFSETFROM:-0500
TZOFFSETTO:-0600
TZNAME:CST
DTSTART:20271107T070000
END:STANDARD
END:VTIMEZONE
BEGIN:VEVENT
DTSTART;TZID=America/Chicago:20270202T170000
DTEND;TZID=America/Chicago:20270202T200000
DTSTAMP:20260424T070933
CREATED:20260117T184516Z
LAST-MODIFIED:20260117T184516Z
UID:10000127-1801587600-1801598400@millwoodgolf.com
SUMMARY:Comfort Food Feature Tuesday
DESCRIPTION:
URL:https://millwoodgolf.com/cal/comfort-food-feature-tuesday/2027-02-02/
LOCATION:Millwood Golf and Racquet Club\, 3700 E Millwood Dr\,\, Ozark\, 65721\, United States
ORGANIZER;CN="Hannah Schumacher":MAILTO:hschumacher@millwoodgolf.com
END:VEVENT
BEGIN:VEVENT
DTSTART;VALUE=DATE:20270205
DTEND;VALUE=DATE:20270206
DTSTAMP:20260424T070933
CREATED:20260117T194613Z
LAST-MODIFIED:20260117T200716Z
UID:10000190-1801785600-1801871999@millwoodgolf.com
SUMMARY:Fish Friday
DESCRIPTION:
URL:https://millwoodgolf.com/cal/fish-friday/2027-02-05/
LOCATION:Millwood Golf and Racquet Club\, 3700 E Millwood Dr\,\, Ozark\, 65721\, United States
ORGANIZER;CN="Hannah Schumacher":MAILTO:hschumacher@millwoodgolf.com
END:VEVENT
BEGIN:VEVENT
DTSTART;TZID=America/Chicago:20270209T170000
DTEND;TZID=America/Chicago:20270209T200000
DTSTAMP:20260424T070933
CREATED:20260117T184516Z
LAST-MODIFIED:20260117T184516Z
UID:10000128-1802192400-1802203200@millwoodgolf.com
SUMMARY:Comfort Food Feature Tuesday
DESCRIPTION:
URL:https://millwoodgolf.com/cal/comfort-food-feature-tuesday/2027-02-09/
LOCATION:Millwood Golf and Racquet Club\, 3700 E Millwood Dr\,\, Ozark\, 65721\, United States
ORGANIZER;CN="Hannah Schumacher":MAILTO:hschumacher@millwoodgolf.com
END:VEVENT
BEGIN:VEVENT
DTSTART;VALUE=DATE:20270212
DTEND;VALUE=DATE:20270213
DTSTAMP:20260424T070933
CREATED:20260117T194613Z
LAST-MODIFIED:20260117T200716Z
UID:10000191-1802390400-1802476799@millwoodgolf.com
SUMMARY:Fish Friday
DESCRIPTION:
URL:https://millwoodgolf.com/cal/fish-friday/2027-02-12/
LOCATION:Millwood Golf and Racquet Club\, 3700 E Millwood Dr\,\, Ozark\, 65721\, United States
ORGANIZER;CN="Hannah Schumacher":MAILTO:hschumacher@millwoodgolf.com
END:VEVENT
BEGIN:VEVENT
DTSTART;TZID=America/Chicago:20270216T170000
DTEND;TZID=America/Chicago:20270216T200000
DTSTAMP:20260424T070933
CREATED:20260117T184516Z
LAST-MODIFIED:20260117T184516Z
UID:10000129-1802797200-1802808000@millwoodgolf.com
SUMMARY:Comfort Food Feature Tuesday
DESCRIPTION:
URL:https://millwoodgolf.com/cal/comfort-food-feature-tuesday/2027-02-16/
LOCATION:Millwood Golf and Racquet Club\, 3700 E Millwood Dr\,\, Ozark\, 65721\, United States
ORGANIZER;CN="Hannah Schumacher":MAILTO:hschumacher@millwoodgolf.com
END:VEVENT
BEGIN:VEVENT
DTSTART;VALUE=DATE:20270219
DTEND;VALUE=DATE:20270220
DTSTAMP:20260424T070933
CREATED:20260117T194613Z
LAST-MODIFIED:20260117T200716Z
UID:10000192-1802995200-1803081599@millwoodgolf.com
SUMMARY:Fish Friday
DESCRIPTION:
URL:https://millwoodgolf.com/cal/fish-friday/2027-02-19/
LOCATION:Millwood Golf and Racquet Club\, 3700 E Millwood Dr\,\, Ozark\, 65721\, United States
ORGANIZER;CN="Hannah Schumacher":MAILTO:hschumacher@millwoodgolf.com
END:VEVENT
BEGIN:VEVENT
DTSTART;TZID=America/Chicago:20270223T170000
DTEND;TZID=America/Chicago:20270223T200000
DTSTAMP:20260424T070933
CREATED:20260117T184516Z
LAST-MODIFIED:20260117T184516Z
UID:10000130-1803402000-1803412800@millwoodgolf.com
SUMMARY:Comfort Food Feature Tuesday
DESCRIPTION:
URL:https://millwoodgolf.com/cal/comfort-food-feature-tuesday/2027-02-23/
LOCATION:Millwood Golf and Racquet Club\, 3700 E Millwood Dr\,\, Ozark\, 65721\, United States
ORGANIZER;CN="Hannah Schumacher":MAILTO:hschumacher@millwoodgolf.com
END:VEVENT
BEGIN:VEVENT
DTSTART;VALUE=DATE:20270226
DTEND;VALUE=DATE:20270227
DTSTAMP:20260424T070933
CREATED:20260117T194613Z
LAST-MODIFIED:20260117T200716Z
UID:10000193-1803600000-1803686399@millwoodgolf.com
SUMMARY:Fish Friday
DESCRIPTION:
URL:https://millwoodgolf.com/cal/fish-friday/2027-02-26/
LOCATION:Millwood Golf and Racquet Club\, 3700 E Millwood Dr\,\, Ozark\, 65721\, United States
ORGANIZER;CN="Hannah Schumacher":MAILTO:hschumacher@millwoodgolf.com
END:VEVENT
END:VCALENDAR